BEGIN:VCALENDAR
VERSION:2.0
PRODID:icalendar-ruby
CALSCALE:GREGORIAN
METHOD:PUBLISH
BEGIN:VEVENT
DTSTAMP:20260424T133206Z
UID:42-211617@centralvineyard.com
DTSTART:20260514T120000Z
DTEND:20260514T131500Z
CLASS:PUBLIC
CREATED:20260423T160538
DESCRIPTION:Join us as we read and discuss Culture Care by renowned artist 
 Makoto Fujimura. Rather than viewing culture as a territory to be won or l
 ost\, Fujimura calls us to be stewards — feeding our culture's soul with
  beauty\, creativity\, and generosity. Come ready to read\, reflect\, and 
 discuss how we might be faithful cultivators of the world around us.\nCont
 act Parker (parker@centralvineyard.com) with questions. 
LAST-MODIFIED:20260423T160538
LOCATION:55 E. Blake Ave.
SUMMARY:Culture Care
URL;VALUE=URI:https://www.centralvineyard.com/events/culture-care/2026-05-1
 4
ATTACH;FILENAME=Culture-Care.png;FMTTYPE=image/png:https://dq5pwpg1q8ru0.cl
 oudfront.net/2026/04/23/20/05/38/13067f43-e2b8-428b-908d-2bfd6e000ae5/Cult
 ure-Care.png
END:VEVENT
END:VCALENDAR
